BEGIN:VCALENDAR
VERSION:2.0
PRODID:-//Vantage Self-Directed Retirement Plans - ECPv6.15.20//NONSGML v1.0//EN
CALSCALE:GREGORIAN
METHOD:PUBLISH
X-WR-CALNAME:Vantage Self-Directed Retirement Plans
X-ORIGINAL-URL:https://www.vantageiras.com
X-WR-CALDESC:Events for Vantage Self-Directed Retirement Plans
REFRESH-INTERVAL;VALUE=DURATION:PT1H
X-Robots-Tag:noindex
X-PUBLISHED-TTL:PT1H
BEGIN:VTIMEZONE
TZID:America/Phoenix
BEGIN:STANDARD
TZOFFSETFROM:-0700
TZOFFSETTO:-0700
TZNAME:MST
DTSTART:20250101T000000
END:STANDARD
END:VTIMEZONE
BEGIN:VEVENT
DTSTART;VALUE=DATE:20260619
DTEND;VALUE=DATE:20260620
DTSTAMP:20260423T044701
CREATED:20260109T190021Z
LAST-MODIFIED:20260109T190021Z
UID:12510-1781827200-1781913599@www.vantageiras.com
SUMMARY:OFFICE CLOSED
DESCRIPTION:
URL:https://www.vantageiras.com/event/office-closed-06-19-2026
END:VEVENT
BEGIN:VEVENT
DTSTART;VALUE=DATE:20260703
DTEND;VALUE=DATE:20260704
DTSTAMP:20260423T044701
CREATED:20260109T203758Z
LAST-MODIFIED:20260109T203758Z
UID:12511-1783036800-1783123199@www.vantageiras.com
SUMMARY:OFFICE CLOSED
DESCRIPTION:
URL:https://www.vantageiras.com/event/office-closed-07-03-2026
END:VEVENT
BEGIN:VEVENT
DTSTART;VALUE=DATE:20260907
DTEND;VALUE=DATE:20260908
DTSTAMP:20260423T044701
CREATED:20260109T204107Z
LAST-MODIFIED:20260109T204107Z
UID:12512-1788739200-1788825599@www.vantageiras.com
SUMMARY:OFFICE CLOSED
DESCRIPTION:
URL:https://www.vantageiras.com/event/office-closed-09-07-2026
END:VEVENT
BEGIN:VEVENT
DTSTART;VALUE=DATE:20261012
DTEND;VALUE=DATE:20261013
DTSTAMP:20260423T044701
CREATED:20260109T204541Z
LAST-MODIFIED:20260109T204541Z
UID:12513-1791763200-1791849599@www.vantageiras.com
SUMMARY:OFFICE CLOSED
DESCRIPTION:
URL:https://www.vantageiras.com/event/office-closed-10-12-2026
END:VEVENT
BEGIN:VEVENT
DTSTART;VALUE=DATE:20261111
DTEND;VALUE=DATE:20261112
DTSTAMP:20260423T044701
CREATED:20260109T204816Z
LAST-MODIFIED:20260109T204816Z
UID:12514-1794355200-1794441599@www.vantageiras.com
SUMMARY:OFFICE CLOSED
DESCRIPTION:
URL:https://www.vantageiras.com/event/office-closed-11-11-2026
END:VEVENT
BEGIN:VEVENT
DTSTART;VALUE=DATE:20261125
DTEND;VALUE=DATE:20261128
DTSTAMP:20260423T044701
CREATED:20260109T205509Z
LAST-MODIFIED:20260109T205509Z
UID:12515-1795564800-1795823999@www.vantageiras.com
SUMMARY:OFFICE CLOSED
DESCRIPTION:
URL:https://www.vantageiras.com/event/office-closed-thanksgiving
END:VEVENT
BEGIN:VEVENT
DTSTART;VALUE=DATE:20261224
DTEND;VALUE=DATE:20261226
DTSTAMP:20260423T044701
CREATED:20260109T205700Z
LAST-MODIFIED:20260109T205700Z
UID:12516-1798070400-1798243199@www.vantageiras.com
SUMMARY:OFFICE CLOSED
DESCRIPTION:
URL:https://www.vantageiras.com/event/office-closed-holidays
END:VEVENT
END:VCALENDAR