BEGIN:VCALENDAR
VERSION:2.0
PRODID:-//Vantage Self-Directed Retirement Plans - ECPv6.15.20//NONSGML v1.0//EN
CALSCALE:GREGORIAN
METHOD:PUBLISH
X-WR-CALNAME:Vantage Self-Directed Retirement Plans
X-ORIGINAL-URL:https://www.vantageiras.com
X-WR-CALDESC:Events for Vantage Self-Directed Retirement Plans
REFRESH-INTERVAL;VALUE=DURATION:PT1H
X-Robots-Tag:noindex
X-PUBLISHED-TTL:PT1H
BEGIN:VTIMEZONE
TZID:America/Phoenix
BEGIN:STANDARD
TZOFFSETFROM:-0700
TZOFFSETTO:-0700
TZNAME:MST
DTSTART:20190101T000000
END:STANDARD
END:VTIMEZONE
BEGIN:VEVENT
DTSTART;TZID=America/Phoenix:20210407T090000
DTEND;TZID=America/Phoenix:20210407T103000
DTSTAMP:20260421T051141
CREATED:20210222T185155Z
LAST-MODIFIED:20210222T185155Z
UID:9482-1617786000-1617791400@www.vantageiras.com
SUMMARY:Set Your IRA Free! (VIRTUAL)
DESCRIPTION:A self-directed retirement plan is a best-kept secret for building wealth and enjoying investment flexibility. This interactive\, eye-opening introductory workshop offers investors a fundamental understanding of how to take control of their financial future with a Vantage Self-Directed IRA. Attendees receive personalized tools to help you understand how the self-directed process works and determine if a self-directed IRA is right for you. \nTo learn more about our workshop educators\, click here
URL:https://www.vantageiras.com/event/set-your-ira-free-introductory-12-3-2-2-2-3-2
LOCATION:This workshop will be delivered LIVE via Zoom.\, Upon registration\, you will receive login credentials.
END:VEVENT
BEGIN:VEVENT
DTSTART;TZID=America/Phoenix:20210406T080000
DTEND;TZID=America/Phoenix:20210406T093000
DTSTAMP:20260421T051141
CREATED:20210219T222640Z
LAST-MODIFIED:20210222T184925Z
UID:9479-1617696000-1617701400@www.vantageiras.com
SUMMARY:How to Raise Capital…Legally (VIRTUAL)
DESCRIPTION:(Presented by Brian J. Burt\, Partner with Snell & Wilmer L.L.P. — For Entrepreneurs\, Business Owners\, and Professionals Raising Capital from Investors – General Audience)\nTo start or expand a business\, you need capital. Raising capital\, however\, is one of the most difficult challenges that a company can undertake. In the current economy\, investors at all levels have become increasingly risk-averse\, resulting in even greater competition for their limited investment dollars. And heightened regulatory scrutiny by the SEC means that compliance with securities laws has never been more important. In this workshop\, Mr. Burt will discuss what an entrepreneur or business owner must do to successfully navigate the process. To learn more\, register today for our FREE workshop offered bi-monthly virtually. \nTo learn more about our workshop educators\, click here
URL:https://www.vantageiras.com/event/how-to-raise-capitallegally
LOCATION:This workshop will be delivered LIVE via Zoom.\, Upon registration\, you will receive login credentials.
END:VEVENT
BEGIN:VEVENT
DTSTART;TZID=America/Phoenix:20210402T150000
DTEND;TZID=America/Phoenix:20210402T170000
DTSTAMP:20260421T051141
CREATED:20210330T172517Z
LAST-MODIFIED:20210330T172517Z
UID:9544-1617375600-1617382800@www.vantageiras.com
SUMMARY:OFFICE CLOSED
DESCRIPTION:Company-Wide Meeting
URL:https://www.vantageiras.com/event/office-closed-6-3-2-2-2
END:VEVENT
BEGIN:VEVENT
DTSTART;TZID=America/Phoenix:20210317T090000
DTEND;TZID=America/Phoenix:20210317T103000
DTSTAMP:20260421T051141
CREATED:20210111T205503Z
LAST-MODIFIED:20210111T205503Z
UID:9400-1615971600-1615977000@www.vantageiras.com
SUMMARY:Set Your IRA Free! (VIRTUAL)
DESCRIPTION:A self-directed retirement plan is the best-kept secret for building wealth and enjoying investment flexibility. This interactive\, eye-opening introductory workshop offers investors a fundamental understanding of how to take control of your financial future with a Vantage Self-Directed IRA. Attendees receive personalized tools to help you understand how the self-directed process works and determine if a self-directed IRA is right for you.
URL:https://www.vantageiras.com/event/set-your-ira-free-introductory-12-3-2-2-2-3
LOCATION:This workshop will be delivered LIVE via Zoom.\, Upon registration\, you will receive login credentials.
END:VEVENT
BEGIN:VEVENT
DTSTART;VALUE=DATE:20210215
DTEND;VALUE=DATE:20210216
DTSTAMP:20260421T051141
CREATED:20210111T205319Z
LAST-MODIFIED:20210111T205319Z
UID:9399-1613347200-1613433599@www.vantageiras.com
SUMMARY:OFFICE CLOSED
DESCRIPTION:Presidents’ Day
URL:https://www.vantageiras.com/event/office-closed-6-3-2-2
END:VEVENT
BEGIN:VEVENT
DTSTART;VALUE=DATE:20210129
DTEND;VALUE=DATE:20210130
DTSTAMP:20260421T051141
CREATED:20210111T205231Z
LAST-MODIFIED:20210111T205231Z
UID:9398-1611878400-1611964799@www.vantageiras.com
SUMMARY:OFFICE CLOSED
DESCRIPTION:Company-wide meeting
URL:https://www.vantageiras.com/event/office-closed-6-3-2
END:VEVENT
BEGIN:VEVENT
DTSTART;VALUE=DATE:20210118
DTEND;VALUE=DATE:20210119
DTSTAMP:20260421T051141
CREATED:20210111T205119Z
LAST-MODIFIED:20210111T205119Z
UID:9397-1610928000-1611014399@www.vantageiras.com
SUMMARY:OFFICE CLOSED
DESCRIPTION:Martin Luther King Jr. Day
URL:https://www.vantageiras.com/event/office-closed-6-3
END:VEVENT
BEGIN:VEVENT
DTSTART;VALUE=DATE:20210101
DTEND;VALUE=DATE:20210102
DTSTAMP:20260421T051141
CREATED:20200917T160533Z
LAST-MODIFIED:20200917T160533Z
UID:9267-1609459200-1609545599@www.vantageiras.com
SUMMARY:OFFICE CLOSED
DESCRIPTION:New Year’s Day
URL:https://www.vantageiras.com/event/office-closed-6
END:VEVENT
BEGIN:VEVENT
DTSTART;VALUE=DATE:20201231
DTEND;VALUE=DATE:20210101
DTSTAMP:20260421T051141
CREATED:20200917T160441Z
LAST-MODIFIED:20200917T160441Z
UID:9266-1609372800-1609459199@www.vantageiras.com
SUMMARY:OFFICE CLOSED
DESCRIPTION:New Year’s Eve
URL:https://www.vantageiras.com/event/office-closed-5
END:VEVENT
BEGIN:VEVENT
DTSTART;VALUE=DATE:20201224
DTEND;VALUE=DATE:20201226
DTSTAMP:20260421T051141
CREATED:20200917T160314Z
LAST-MODIFIED:20200917T160313Z
UID:9265-1608768000-1608940799@www.vantageiras.com
SUMMARY:OFFICE CLOSED
DESCRIPTION:Christmas
URL:https://www.vantageiras.com/event/office-closed-4
END:VEVENT
BEGIN:VEVENT
DTSTART;VALUE=DATE:20201223
DTEND;VALUE=DATE:20201224
DTSTAMP:20260421T051141
CREATED:20201130T212520Z
LAST-MODIFIED:20201130T212520Z
UID:9331-1608681600-1608767999@www.vantageiras.com
SUMMARY:OFFICE CLOSED
DESCRIPTION:Christmas
URL:https://www.vantageiras.com/event/office-closed-6-2
END:VEVENT
BEGIN:VEVENT
DTSTART;TZID=America/Phoenix:20201202T090000
DTEND;TZID=America/Phoenix:20201202T103000
DTSTAMP:20260421T051141
CREATED:20200909T160920Z
LAST-MODIFIED:20200910T213235Z
UID:9259-1606899600-1606905000@www.vantageiras.com
SUMMARY:Set Your IRA Free! (VIRTUAL)
DESCRIPTION:A self-directed retirement plan is the best-kept secret for building wealth and enjoying investment flexibility. This interactive\, eye-opening introductory workshop offers investors a fundamental understanding of how to take control of your financial future with a Vantage Self-Directed IRA. Attendees receive personalized tools to help you understand how the self-directed process works and determine if a self-directed IRA is right for you.
URL:https://www.vantageiras.com/event/set-your-ira-free-introductory-12-2
LOCATION:This workshop will be delivered LIVE via Zoom.\, Upon registration\, you will receive login credentials.
END:VEVENT
BEGIN:VEVENT
DTSTART;VALUE=DATE:20201125
DTEND;VALUE=DATE:20201128
DTSTAMP:20260421T051141
CREATED:20200917T155943Z
LAST-MODIFIED:20200917T155943Z
UID:9263-1606262400-1606521599@www.vantageiras.com
SUMMARY:OFFICE CLOSED
DESCRIPTION:Thanksgiving
URL:https://www.vantageiras.com/event/office-closed-2
END:VEVENT
BEGIN:VEVENT
DTSTART;TZID=America/Phoenix:20201118T090000
DTEND;TZID=America/Phoenix:20201118T103000
DTSTAMP:20260421T051141
CREATED:20200909T160842Z
LAST-MODIFIED:20200910T213225Z
UID:9258-1605690000-1605695400@www.vantageiras.com
SUMMARY:Set Your IRA Free! (VIRTUAL)
DESCRIPTION:A self-directed retirement plan is the best-kept secret for building wealth and enjoying investment flexibility. This interactive\, eye-opening introductory workshop offers investors a fundamental understanding of how to take control of your financial future with a Vantage Self-Directed IRA. Attendees receive personalized tools to help you understand how the self-directed process works and determine if a self-directed IRA is right for you.
URL:https://www.vantageiras.com/event/set-your-ira-free-introductory-12
LOCATION:This workshop will be delivered LIVE via Zoom.\, Upon registration\, you will receive login credentials.
END:VEVENT
BEGIN:VEVENT
DTSTART;VALUE=DATE:20201111
DTEND;VALUE=DATE:20201112
DTSTAMP:20260421T051141
CREATED:20201001T162354Z
LAST-MODIFIED:20201001T162354Z
UID:9283-1605052800-1605139199@www.vantageiras.com
SUMMARY:OFFICE CLOSED
DESCRIPTION:Veterans Day
URL:https://www.vantageiras.com/event/office-closed-9
END:VEVENT
BEGIN:VEVENT
DTSTART;TZID=America/Phoenix:20201104T090000
DTEND;TZID=America/Phoenix:20201104T103000
DTSTAMP:20260421T051141
CREATED:20200909T160754Z
LAST-MODIFIED:20200910T213213Z
UID:9257-1604480400-1604485800@www.vantageiras.com
SUMMARY:Set Your IRA Free! (VIRTUAL)
DESCRIPTION:A self-directed retirement plan is the best-kept secret for building wealth and enjoying investment flexibility. This interactive\, eye-opening introductory workshop offers investors a fundamental understanding of how to take control of your financial future with a Vantage Self-Directed IRA. Attendees receive personalized tools to help you understand how the self-directed process works and determine if a self-directed IRA is right for you.
URL:https://www.vantageiras.com/event/set-your-ira-free-introductory-11
LOCATION:This workshop will be delivered LIVE via Zoom.\, Upon registration\, you will receive login credentials.
END:VEVENT
BEGIN:VEVENT
DTSTART;VALUE=DATE:20201030
DTEND;VALUE=DATE:20201031
DTSTAMP:20260421T051141
CREATED:20200917T155455Z
LAST-MODIFIED:20200917T155455Z
UID:9262-1604016000-1604102399@www.vantageiras.com
SUMMARY:OFFICE CLOSED AT NOON
DESCRIPTION:Company-wide meeting
URL:https://www.vantageiras.com/event/office-closed
END:VEVENT
BEGIN:VEVENT
DTSTART;TZID=America/Phoenix:20201021T090000
DTEND;TZID=America/Phoenix:20201021T103000
DTSTAMP:20260421T051141
CREATED:20200909T160647Z
LAST-MODIFIED:20200910T213203Z
UID:9256-1603270800-1603276200@www.vantageiras.com
SUMMARY:Set Your IRA Free! (VIRTUAL)
DESCRIPTION:A self-directed retirement plan is the best-kept secret for building wealth and enjoying investment flexibility. This interactive\, eye-opening introductory workshop offers investors a fundamental understanding of how to take control of your financial future with a Vantage Self-Directed IRA. Attendees receive personalized tools to help you understand how the self-directed process works and determine if a self-directed IRA is right for you.
URL:https://www.vantageiras.com/event/set-your-ira-free-introductory-10
LOCATION:This workshop will be delivered LIVE via Zoom.\, Upon registration\, you will receive login credentials.
END:VEVENT
BEGIN:VEVENT
DTSTART;VALUE=DATE:20201012
DTEND;VALUE=DATE:20201013
DTSTAMP:20260421T051141
CREATED:20200917T160152Z
LAST-MODIFIED:20200917T160152Z
UID:9264-1602460800-1602547199@www.vantageiras.com
SUMMARY:OFFICE CLOSED
DESCRIPTION:Indigenous Peoples’ Day
URL:https://www.vantageiras.com/event/office-closed-3
END:VEVENT
BEGIN:VEVENT
DTSTART;TZID=America/Phoenix:20201007T090000
DTEND;TZID=America/Phoenix:20201007T103000
DTSTAMP:20260421T051141
CREATED:20200909T160544Z
LAST-MODIFIED:20200910T213137Z
UID:9255-1602061200-1602066600@www.vantageiras.com
SUMMARY:Set Your IRA Free! (VIRTUAL)
DESCRIPTION:A self-directed retirement plan is the best-kept secret for building wealth and enjoying investment flexibility. This interactive\, eye-opening introductory workshop offers investors a fundamental understanding of how to take control of your financial future with a Vantage Self-Directed IRA. Attendees receive personalized tools to help you understand how the self-directed process works and determine if a self-directed IRA is right for you.
URL:https://www.vantageiras.com/event/set-your-ira-free-introductory-9
LOCATION:This workshop will be delivered LIVE via Zoom.\, Upon registration\, you will receive login credentials.
END:VEVENT
BEGIN:VEVENT
DTSTART;TZID=America/Phoenix:20200916T090000
DTEND;TZID=America/Phoenix:20200916T103000
DTSTAMP:20260421T051141
CREATED:20200909T153437Z
LAST-MODIFIED:20200910T213101Z
UID:9251-1600246800-1600252200@www.vantageiras.com
SUMMARY:Set Your IRA Free! (VIRTUAL)
DESCRIPTION:A self-directed retirement plan is the best-kept secret for building wealth and enjoying investment flexibility. This interactive\, eye-opening introductory workshop offers investors a fundamental understanding of how to take control of your financial future with a Vantage Self-Directed IRA. Attendees receive personalized tools to help you understand how the self-directed process works and determine if a self-directed IRA is right for you.
URL:https://www.vantageiras.com/event/set-your-ira-free-introductory-8
LOCATION:This workshop will be delivered LIVE via Zoom.\, Upon registration\, you will receive login credentials.
END:VEVENT
BEGIN:VEVENT
DTSTART;VALUE=DATE:20200907
DTEND;VALUE=DATE:20200908
DTSTAMP:20260421T051141
CREATED:20200825T181117Z
LAST-MODIFIED:20200825T181117Z
UID:9237-1599436800-1599523199@www.vantageiras.com
SUMMARY:OFFICE CLOSED
DESCRIPTION:Labor Day
URL:https://www.vantageiras.com/event/office-closed-8
END:VEVENT
BEGIN:VEVENT
DTSTART;VALUE=DATE:20200820
DTEND;VALUE=DATE:20200822
DTSTAMP:20260421T051141
CREATED:20200807T174619Z
LAST-MODIFIED:20200807T174619Z
UID:9227-1597881600-1598054399@www.vantageiras.com
SUMMARY:OFFICE CLOSED
DESCRIPTION:Company-wide meeting
URL:https://www.vantageiras.com/event/office-closed-7
END:VEVENT
BEGIN:VEVENT
DTSTART;VALUE=DATE:20200729
DTEND;VALUE=DATE:20200730
DTSTAMP:20260421T051141
CREATED:20200707T183515Z
LAST-MODIFIED:20200707T183515Z
UID:9182-1595980800-1596067199@www.vantageiras.com
SUMMARY:OFFICE CLOSED AT NOON
DESCRIPTION:Company-Wide Meeting
URL:https://www.vantageiras.com/event/office-closed-at-noon
END:VEVENT
END:VCALENDAR