BEGIN:VCALENDAR
VERSION:2.0
PRODID:-//Vantage Self-Directed Retirement Plans - ECPv6.15.20//NONSGML v1.0//EN
CALSCALE:GREGORIAN
METHOD:PUBLISH
X-ORIGINAL-URL:https://www.vantageiras.com
X-WR-CALDESC:Events for Vantage Self-Directed Retirement Plans
REFRESH-INTERVAL;VALUE=DURATION:PT1H
X-Robots-Tag:noindex
X-PUBLISHED-TTL:PT1H
BEGIN:VTIMEZONE
TZID:America/Phoenix
BEGIN:STANDARD
TZOFFSETFROM:-0700
TZOFFSETTO:-0700
TZNAME:MST
DTSTART:20230101T000000
END:STANDARD
END:VTIMEZONE
BEGIN:VEVENT
DTSTART;TZID=America/Phoenix:20241029T170000
DTEND;TZID=America/Phoenix:20241029T180000
DTSTAMP:20260424T114354
CREATED:20241028T204921Z
LAST-MODIFIED:20241028T205522Z
UID:12110-1730221200-1730224800@www.vantageiras.com
SUMMARY:REIA Unified: Webinar
DESCRIPTION:Hosted by Stella Han\, CEO of Fractional\nLooking to network with real estate investors across the nation? \nJoin Fractional CEO Stella Han for an engaging webinar that brings together real estate investing communities from coast to coast! Fractional’s mission is to make the private real estate market accessible and inclusive through shared ownership opportunities. \nThis session is perfect for those ready to kick-start or elevate their investing journey. Meet like-minded investors and learn alongside REIA members from NYC REIA\, ICOR\, Boston REIA\, Great Lakes REIA\, and more\, forming a unified REIA network! \n  \nRegister HERE\n  \nVantage does not promote\, endorse or offer any investments. Vantage does not offer investment\, tax\, financial or legal advice to clients or workshop attendees. Individuals should consult with the appropriate professional(s) licensed in that area. Any educational information provided regarding self-directed retirement accounts and potential investment scenarios is in no way intended as investment advice. \n 
URL:https://www.vantageiras.com/event/reia-unified-webinar
LOCATION:https://www.vantageiras.com/event/reia-unified-webinar
END:VEVENT
END:VCALENDAR