BEGIN:VCALENDAR
VERSION:2.0
PRODID:-//Vantage Self-Directed Retirement Plans - ECPv6.15.20//NONSGML v1.0//EN
CALSCALE:GREGORIAN
METHOD:PUBLISH
X-ORIGINAL-URL:https://www.vantageiras.com
X-WR-CALDESC:Events for Vantage Self-Directed Retirement Plans
REFRESH-INTERVAL;VALUE=DURATION:PT1H
X-Robots-Tag:noindex
X-PUBLISHED-TTL:PT1H
BEGIN:VTIMEZONE
TZID:America/Phoenix
BEGIN:STANDARD
TZOFFSETFROM:-0700
TZOFFSETTO:-0700
TZNAME:MST
DTSTART:20220101T000000
END:STANDARD
END:VTIMEZONE
BEGIN:VEVENT
DTSTART;TZID=America/Phoenix:20230927T180000
DTEND;TZID=America/Phoenix:20230927T200000
DTSTAMP:20260424T032435
CREATED:20230920T221324Z
LAST-MODIFIED:20230921T182619Z
UID:11599-1695837600-1695844800@www.vantageiras.com
SUMMARY:AZREIA Event: Fix & Flip Subgroup
DESCRIPTION:Presented by Bob Gomez\nThis AZREIA subgroup is a networking meeting for individuals interested in learning about the Fix & Flip strategy. \nSubgroups are included in AZREIA Plus membership.\nAZREIA members can attend for $5.\nGuests are welcome to attend for a $20 guest fee.\nMEMBERS you will need to bring your AZREIA ID card to the Fix and Flip subgroup. \nClick Here to Register with AZREIA \n  \n  \nVantage does not promote\, endorse or offer any investments. Vantage does not offer investment\, tax\, financial or legal advice to clients or workshop attendees. Individuals should consult with the appropriate professional(s) licensed in that area. Any educational information provided regarding self-directed retirement accounts and potential investment scenarios is in no way intended as investment advice.
URL:https://www.vantageiras.com/event/azreia-event-fix-flip-subgroup
LOCATION:Stardust\, 1720 W. Broadway Rd Suite 101\, Mesa\, AZ\, 85202\, United States
END:VEVENT
END:VCALENDAR